BEGIN:VCALENDAR
VERSION:2.0
PRODID:-//Highmount Preschool - ECPv5.3.2.1//NONSGML v1.0//EN
CALSCALE:GREGORIAN
METHOD:PUBLISH
X-WR-CALNAME:Highmount Preschool
X-ORIGINAL-URL:https://highmountpreschool.org.au
X-WR-CALDESC:Events for Highmount Preschool
BEGIN:VTIMEZONE
TZID:Australia/Melbourne
BEGIN:STANDARD
TZOFFSETFROM:+1100
TZOFFSETTO:+1000
TZNAME:AEST
DTSTART:20210403T160000
END:STANDARD
BEGIN:DAYLIGHT
TZOFFSETFROM:+1000
TZOFFSETTO:+1100
TZNAME:AEDT
DTSTART:20211002T160000
END:DAYLIGHT
END:VTIMEZONE
BEGIN:VEVENT
DTSTART;TZID=Australia/Melbourne:20210324T080000
DTEND;TZID=Australia/Melbourne:20210324T170000
DTSTAMP:20210226T143456
CREATED:20210216T083707Z
LAST-MODIFIED:20210216T084135Z
UID:2160-1616572800-1616605200@highmountpreschool.org.au
SUMMARY:BODY CONFIDENT CHILDREN & TEENS WEBINAR
DESCRIPTION:BODY CONFIDENT CHILDREN & TEENS WEBINAR\n\n\nSUPPORTING BODY CONFIDENCE AND HEALTHY RELATIONSHIPS WITH FOOD AND EXERCISE IN YOUNG PEOPLE\n\n\nWednesday 24th March 2021\n7:00pm – 8:15pm (AWST)\nVia Zoom (no recording\, live event only)\nCost: Free\n\n\n\nBOOK HERE\nhttps://events.butterfly.org.au/portal/event/?id=EP_BCCT_Parent_Webinar1983434873&Name=24/03/21%20BCCT%20webinar%20Monash\n\n\n\nWith so many confusing messages around weight and shape and many adults struggling with their own body image it can be difficult for parents to know how best to support their child as they move through adolescence.\n\n\n\nThis relaxed and informative seminar for carers of primary and secondary age children gives practical tips to help you better understand and promote positive body image in the home.\n\n\n\nDelivered by the Butterfly Foundation for eating disorders and body image.\n\n\nIn this session you will cover:\n Overview of body image and the importance of prevention\n The spectrum of body and eating issues\n Key influences on body image\, including social media\n The impact of diet culture and weight stigma\n Busting common myths around eating disorders\n Reducing appearance talk and how to respond when a child expresses negativity towards themselves/others\n The power of role modelling positive body image and behaviours\n Understanding warning signs and the importance of early intervention.
URL:https://highmountpreschool.org.au/event/body-confident-children-teens-webinar/
END:VEVENT
BEGIN:VEVENT
DTSTART;VALUE=DATE:20210323
DTEND;VALUE=DATE:20210328
DTSTAMP:20210226T143456
CREATED:20210216T081841Z
LAST-MODIFIED:20210216T081841Z
UID:2151-1616457600-1616889599@highmountpreschool.org.au
SUMMARY:Preschool Photos 2021
DESCRIPTION:Week Commencing Monday 29th March – 3YO & 4YO groups\nHighmount Preschool has engaged the services of Little World Photography take our annual individual and group photos www.littleworldphotography.com.au
URL:https://highmountpreschool.org.au/event/preschool-photos-2021/
LOCATION:Highmount Preschool\, 36 Lechte Road\, Mount Waverley\, Victoria\, 3149\, Australia
END:VEVENT
END:VCALENDAR